BEGIN:VCALENDAR
VERSION:2.0
PRODID:-//Tukios.com/
BEGIN:VEVENT
UID:a67ef1d0-b58a-4c01-a65c-c2e97d7e2349@www.gormleyandsons.com
DTSTAMP:20260421T011222Z
DTSTART:20260501T223000Z
DTEND:20260501T233000Z
SUMMARY:Celebration of Life
DESCRIPTION:
URL:https://www.gormleyandsons.com/obituaries/barbara-zanze
LOCATION:Croatian American Cultural Center 3730 Auburn Boulevard  
	Sacramento CA 95821
GEO:38.6388042;-121.3768606
END:VEVENT
END:VCALENDAR